BEGIN:VCALENDAR
VERSION:2.0
PRODID:-//Tour Sicilia - ECPv6.15.20//NONSGML v1.0//EN
CALSCALE:GREGORIAN
METHOD:PUBLISH
X-ORIGINAL-URL:https://viaggisicilia.net
X-WR-CALDESC:Eventi per Tour Sicilia
REFRESH-INTERVAL;VALUE=DURATION:PT1H
X-Robots-Tag:noindex
X-PUBLISHED-TTL:PT1H
BEGIN:VTIMEZONE
TZID:Europe/Rome
BEGIN:DAYLIGHT
TZOFFSETFROM:+0100
TZOFFSETTO:+0200
TZNAME:CEST
DTSTART:20230326T010000
END:DAYLIGHT
BEGIN:STANDARD
TZOFFSETFROM:+0200
TZOFFSETTO:+0100
TZNAME:CET
DTSTART:20231029T010000
END:STANDARD
BEGIN:DAYLIGHT
TZOFFSETFROM:+0100
TZOFFSETTO:+0200
TZNAME:CEST
DTSTART:20240331T010000
END:DAYLIGHT
BEGIN:STANDARD
TZOFFSETFROM:+0200
TZOFFSETTO:+0100
TZNAME:CET
DTSTART:20241027T010000
END:STANDARD
BEGIN:DAYLIGHT
TZOFFSETFROM:+0100
TZOFFSETTO:+0200
TZNAME:CEST
DTSTART:20250330T010000
END:DAYLIGHT
BEGIN:STANDARD
TZOFFSETFROM:+0200
TZOFFSETTO:+0100
TZNAME:CET
DTSTART:20251026T010000
END:STANDARD
BEGIN:DAYLIGHT
TZOFFSETFROM:+0100
TZOFFSETTO:+0200
TZNAME:CEST
DTSTART:20260329T010000
END:DAYLIGHT
BEGIN:STANDARD
TZOFFSETFROM:+0200
TZOFFSETTO:+0100
TZNAME:CET
DTSTART:20261025T010000
END:STANDARD
END:VTIMEZONE
BEGIN:VEVENT
DTSTART;TZID=Europe/Rome:20241227T140000
DTEND;TZID=Europe/Rome:20250103T100000
DTSTAMP:20260424T063622
CREATED:20241202T154740Z
LAST-MODIFIED:20260213T203609Z
UID:22296-1735308000-1735898400@viaggisicilia.net
SUMMARY:Sicilian Secrets Tour
DESCRIPTION:
URL:https://viaggisicilia.net/evento/sicilian-secrets-tour/
CATEGORIES:Tour Sicilia
ATTACH;FMTTYPE=image/jpeg:https://viaggisicilia.net/wp-content/uploads/2019/04/catania-tour-sicilian-secret-9-2.jpg
ORGANIZER;CN="ViaggiSicilia":MAILTO:info@viaggisicilia.net
END:VEVENT
BEGIN:VEVENT
DTSTART;TZID=Europe/Rome:20241228T140000
DTEND;TZID=Europe/Rome:20250104T100000
DTSTAMP:20260424T063622
CREATED:20241202T154054Z
LAST-MODIFIED:20260213T205905Z
UID:22293-1735394400-1735984800@viaggisicilia.net
SUMMARY:Tour Sicilia Classica da zona Palermo
DESCRIPTION:
URL:https://viaggisicilia.net/evento/tour-sicilia-classica-da-zona-palermo/
CATEGORIES:Tour Sicilia
ATTACH;FMTTYPE=image/jpeg:https://viaggisicilia.net/wp-content/uploads/2020/04/palermo-tour-sicilia-magica-9.jpg
ORGANIZER;CN="ViaggiSicilia":MAILTO:info@viaggisicilia.net
END:VEVENT
END:VCALENDAR